BEGIN:VCALENDAR
VERSION:2.0
PRODID:-//Harry Hresh - ECPv6.15.20//NONSGML v1.0//EN
CALSCALE:GREGORIAN
METHOD:PUBLISH
X-WR-CALNAME:Harry Hresh
X-ORIGINAL-URL:https://harryhresh.com
X-WR-CALDESC:Events for Harry Hresh
REFRESH-INTERVAL;VALUE=DURATION:PT1H
X-Robots-Tag:noindex
X-PUBLISHED-TTL:PT1H
BEGIN:VTIMEZONE
TZID:America/Los_Angeles
BEGIN:DAYLIGHT
TZOFFSETFROM:-0800
TZOFFSETTO:-0700
TZNAME:PDT
DTSTART:20250309T100000
END:DAYLIGHT
BEGIN:STANDARD
TZOFFSETFROM:-0700
TZOFFSETTO:-0800
TZNAME:PST
DTSTART:20251102T090000
END:STANDARD
BEGIN:DAYLIGHT
TZOFFSETFROM:-0800
TZOFFSETTO:-0700
TZNAME:PDT
DTSTART:20260308T100000
END:DAYLIGHT
BEGIN:STANDARD
TZOFFSETFROM:-0700
TZOFFSETTO:-0800
TZNAME:PST
DTSTART:20261101T090000
END:STANDARD
BEGIN:DAYLIGHT
TZOFFSETFROM:-0800
TZOFFSETTO:-0700
TZNAME:PDT
DTSTART:20270314T100000
END:DAYLIGHT
BEGIN:STANDARD
TZOFFSETFROM:-0700
TZOFFSETTO:-0800
TZNAME:PST
DTSTART:20271107T090000
END:STANDARD
END:VTIMEZONE
BEGIN:VEVENT
DTSTART;TZID=America/Los_Angeles:20260429T190000
DTEND;TZID=America/Los_Angeles:20260429T200000
DTSTAMP:20260422T051716
CREATED:20260306T172216Z
LAST-MODIFIED:20260306T172241Z
UID:7341-1777489200-1777492800@harryhresh.com
SUMMARY:WordPress Workshop 04-29-2026
DESCRIPTION:Build\, Manage\, and Scale with Confidence\nWordPress is more than a CMS\, it’s a system for your business! \nThis hands-on WordPress workshop provides education services in business and technology management by teaching participants how to build\, manage\, and maintain WordPress websites as real-world digital systems. \n\n\n\n\n\n\n\nDesigned for makers\, creators\, and technical entrepreneurs\, the workshop connects website creation with the skills needed to manage technology\, workflows\, and business goals effectively.
URL:https://harryhresh.com/event/wordpress-workshop-04-29-2026/
CATEGORIES:Business
ATTACH;FMTTYPE=image/jpeg:https://harryhresh.com/wp-content/uploads/2025/05/software-harry-Hresh-portfolio-demo.jpg
END:VEVENT
BEGIN:VEVENT
DTSTART;TZID=America/Los_Angeles:20260527T190000
DTEND;TZID=America/Los_Angeles:20260527T200000
DTSTAMP:20260422T051716
CREATED:20260306T172510Z
LAST-MODIFIED:20260306T172510Z
UID:7343-1779908400-1779912000@harryhresh.com
SUMMARY:WordPress Workshop 05-27-2026
DESCRIPTION:Build\, Manage\, and Scale with Confidence\nWordPress is more than a CMS\, it’s a system for your business! \nThis hands-on WordPress workshop provides education services in business and technology management by teaching participants how to build\, manage\, and maintain WordPress websites as real-world digital systems. \n\n\n\n\n\n\n\nDesigned for makers\, creators\, and technical entrepreneurs\, the workshop connects website creation with the skills needed to manage technology\, workflows\, and business goals effectively.
URL:https://harryhresh.com/event/wordpress-workshop-05-27-2026/
ATTACH;FMTTYPE=image/jpeg:https://harryhresh.com/wp-content/uploads/2025/05/software-harry-Hresh-portfolio-demo.jpg
END:VEVENT
BEGIN:VEVENT
DTSTART;TZID=America/Los_Angeles:20260624T190000
DTEND;TZID=America/Los_Angeles:20260624T200000
DTSTAMP:20260422T051716
CREATED:20260306T172748Z
LAST-MODIFIED:20260306T172748Z
UID:7345-1782327600-1782331200@harryhresh.com
SUMMARY:WordPress Workshop 06-24-2026
DESCRIPTION:Build\, Manage\, and Scale with Confidence\nWordPress is more than a CMS\, it’s a system for your business! \nThis hands-on WordPress workshop provides education services in business and technology management by teaching participants how to build\, manage\, and maintain WordPress websites as real-world digital systems. \n\n\n\n\n\n\n\nDesigned for makers\, creators\, and technical entrepreneurs\, the workshop connects website creation with the skills needed to manage technology\, workflows\, and business goals effectively.
URL:https://harryhresh.com/event/wordpress-workshop-06-24-2026/
ATTACH;FMTTYPE=image/jpeg:https://harryhresh.com/wp-content/uploads/2025/05/software-harry-Hresh-portfolio-demo.jpg
END:VEVENT
BEGIN:VEVENT
DTSTART;TZID=America/Los_Angeles:20260729T190000
DTEND;TZID=America/Los_Angeles:20260729T200000
DTSTAMP:20260422T051716
CREATED:20260306T183532Z
LAST-MODIFIED:20260306T183641Z
UID:7347-1785351600-1785355200@harryhresh.com
SUMMARY:WordPress Workshop 07-29-2026
DESCRIPTION:WordPress is more than a CMS\, it’s a system for your business! \nThis hands-on WordPress workshop provides education services in business and technology management by teaching participants how to build\, manage\, and maintain WordPress websites as real-world digital systems. \n\n\n\n\n\n\n\nDesigned for makers\, creators\, and technical entrepreneurs\, the workshop connects website creation with the skills needed to manage technology\, workflows\, and business goals effectively.
URL:https://harryhresh.com/event/wordpress-workshop-07-29-2026/
CATEGORIES:Business
ATTACH;FMTTYPE=image/jpeg:https://harryhresh.com/wp-content/uploads/2025/05/software-harry-Hresh-portfolio-demo.jpg
END:VEVENT
BEGIN:VEVENT
DTSTART;TZID=America/Los_Angeles:20260826T190000
DTEND;TZID=America/Los_Angeles:20260826T200000
DTSTAMP:20260422T051716
CREATED:20260306T183728Z
LAST-MODIFIED:20260306T184206Z
UID:7349-1787770800-1787774400@harryhresh.com
SUMMARY:WordPress Workshop 08-26-2026
DESCRIPTION:WordPress is more than a CMS\, it’s a system for your business! \nThis hands-on WordPress workshop provides education services in business and technology management by teaching participants how to build\, manage\, and maintain WordPress websites as real-world digital systems. \n\n\n\n\n\n\n\nDesigned for makers\, creators\, and technical entrepreneurs\, the workshop connects website creation with the skills needed to manage technology\, workflows\, and business goals effectively.
URL:https://harryhresh.com/event/7349/
CATEGORIES:Business
ATTACH;FMTTYPE=image/jpeg:https://harryhresh.com/wp-content/uploads/2025/05/software-harry-Hresh-portfolio-demo.jpg
END:VEVENT
BEGIN:VEVENT
DTSTART;TZID=America/Los_Angeles:20260930T190000
DTEND;TZID=America/Los_Angeles:20260930T200000
DTSTAMP:20260422T051716
CREATED:20260306T184440Z
LAST-MODIFIED:20260306T184725Z
UID:7353-1790794800-1790798400@harryhresh.com
SUMMARY:WordPress Workshop 09-30-2026
DESCRIPTION:WordPress is more than a CMS\, it’s a system for your business! \nThis hands-on WordPress workshop provides education services in business and technology management by teaching participants how to build\, manage\, and maintain WordPress websites as real-world digital systems. \n\n\n\n\n\n\n\nDesigned for makers\, creators\, and technical entrepreneurs\, the workshop connects website creation with the skills needed to manage technology\, workflows\, and business goals effectively.
URL:https://harryhresh.com/event/wordpress-workshop/
CATEGORIES:Business
ATTACH;FMTTYPE=image/jpeg:https://harryhresh.com/wp-content/uploads/2025/05/software-harry-Hresh-portfolio-demo.jpg
END:VEVENT
BEGIN:VEVENT
DTSTART;TZID=America/Los_Angeles:20261028T080000
DTEND;TZID=America/Los_Angeles:20261028T170000
DTSTAMP:20260422T051716
CREATED:20260306T184915Z
LAST-MODIFIED:20260306T184915Z
UID:7356-1793174400-1793206800@harryhresh.com
SUMMARY:WordPress Workshop 10-28-2026
DESCRIPTION:WordPress is more than a CMS\, it’s a system for your business! \nThis hands-on WordPress workshop provides education services in business and technology management by teaching participants how to build\, manage\, and maintain WordPress websites as real-world digital systems. \n\n\n\n\n\n\n\nDesigned for makers\, creators\, and technical entrepreneurs\, the workshop connects website creation with the skills needed to manage technology\, workflows\, and business goals effectively.
URL:https://harryhresh.com/event/wordpress-workshop-10-28-2026/
CATEGORIES:Business
ATTACH;FMTTYPE=image/jpeg:https://harryhresh.com/wp-content/uploads/2025/05/software-harry-Hresh-portfolio-demo.jpg
END:VEVENT
END:VCALENDAR